BEGIN:VCALENDAR
VERSION:2.0
PRODID:-//Ai Applied Consortium - ECPv6.15.20//NONSGML v1.0//EN
CALSCALE:GREGORIAN
METHOD:PUBLISH
X-WR-CALNAME:Ai Applied Consortium
X-ORIGINAL-URL:https://aaiconsortium.org
X-WR-CALDESC:Events for Ai Applied Consortium
REFRESH-INTERVAL;VALUE=DURATION:PT1H
X-Robots-Tag:noindex
X-PUBLISHED-TTL:PT1H
BEGIN:VTIMEZONE
TZID:UTC
BEGIN:STANDARD
TZOFFSETFROM:+0000
TZOFFSETTO:+0000
TZNAME:UTC
DTSTART:20240101T000000
END:STANDARD
END:VTIMEZONE
BEGIN:VEVENT
DTSTART;TZID=UTC:20251030T130000
DTEND;TZID=UTC:20251030T193000
DTSTAMP:20260423T112251
CREATED:20250902T182602Z
LAST-MODIFIED:20251030T200918Z
UID:1685-1761829200-1761852600@aaiconsortium.org
SUMMARY:Signals to Outcomes:  AI at Mission Rock
DESCRIPTION:📍 Venue: Visa Global Headquarters — Mission Rock (Mission Bay)\, San Francisco\, CA – 300 Toni Stone Xing\, San Francisco\, CA 94158 \n📅 Date & Time: October 30th | 1:00 – 7:30 PM PST \nThis invite-only working session at Visa’s Mission Rock headquarters convenes enterprise leaders\, platform architects\,\nand researchers to turn Agentic AI\, Hyperpersonalization\, and Analytics into durable business value. We’ll pressure-test production patterns\, share field results\, and align on actionable 30/60/90-day pilot plans. \nSessions emphasize agentic orchestration for reliability and governance\, real-time personalization across credit and customer journeys\, and analytics operating models that convert signals to outcomes—without sacrificing safety or performance. \n  \n \n  \n\n \n\n \n\nSam Hamilton\nSVP\, Data & AI\nVisa (former)\n\n\n \n\nAbhishek Joshi\nHead of U.S. Credit & Affluent Strategy\nVisa\n\n\n \n\nAnand Krishnan\nPartnership & Consulting Lead\nEY\n\n\n\n \n\n\n\n \n\n \n\nKonrad Konarski\nChairperson\nAI Applied Consortium / Prolifics Inc.\n\n\n \n\nTeesee Murray\nGroup President (CEO\, TurtleX)\nTurtle\n\n\n \n\nDr. Satyam Priyadarshy\nRetired Chief Data Scientist\nHalliburton\n\n\n\n \n\n\n\n \n\n \n\nPrasanna Vijayanathan\nSenior Principal Engineer\nNetflix\n\n\n \n\nDr. Cynthia Bailey\nSenior Lecturer\nStanford University\n\n\n \n\nVirginia Hughes\nCanada Territory Lead\nProlifics\n\n\n\n \n\n\n\n \n\n \n\nSwee-May Ngeow\nVP\, Head of North America Product\, Client Strategy & Solutions\nVisa\n\n\n \n\nDr. Kshitij Sanghi\nVP\, Predictive Fraud Prevention Products\nVisa\n\n\n \n\nDr. Long Nguyen\nDirector of Data Science\nVisa\n\n\n\n\n\n \n\n\n\nTime\nSession\nSpeakers\nDetails\n\n\n \n\n1:00 – 1:10 PM\nWelcome & Host Remarks (Visa)\nAbhishek “AJ” Joshi — Head of U.S. Credit & Affluent Strategy\, Visa\nKonrad Konarski — Chairperson\, AI Applied Consortium\nOpening remarks and session framing for an outcomes-focused afternoon.\n\n \n\n1:10 – 2:10 PM\nAI Innovation at Visa\nPersonalization: Lawson Lau — VP\, Head of North America Data Science\nRisk Management: Kshitij Sanghi — VP\, Predictive Fraud Prevention Products\nAI in Operations: Erica Luong — Sr. Manager\, Visa Consulting & Analytics; Rajat Das — Sr. Director\, Platform Products\nPayments for Agentic AI: Raj Brahmbhatt — Sr. Director\, Payments; Swee-May Ngeow — VP\, Head of North America Product\, Client Strategy & Solutions \nSam Hamilton Former SVP VISA\nHow Visa teams are scaling agentic architectures\, hardening evaluation\, and aligning policy with progress across core domains.\n\n \n\n2:10 – 2:30 PM\nNetworking Break\nCurated intros & quick connects\nMatch on pilot topics and priority use cases.\n\n \n\n2:30 – 3:30 PM\nIndustry Panel: From POCs to Agentic Systems in Production\nTeesee Murray — Group President\, Turtle | CEO\, TurtleX\nAnand Krishnan — Partner\, EY\nPrasanna Vijayanathan — Senior Technical Lead\, Netflix\nKonrad Konarski — Chairperson\, AI Applied Consortium\nFrom demo to dependable: orchestration stacks\, evaluation harnesses\, secure data products\, and change management.\n\n \n\n3:30 – 4:00 PM\nRegulatory Landscape in AI\nDr. Cynthia Bailey — Stanford AI Lab\nBriefing on emerging frameworks for accountability\, governance\, and compliance in enterprise AI.\n\n \n\n4:00 – 5:30 PM\nRoundtable: Opportunity to Pilot Innovation\nFacilitated by: Konrad Konarski — Chairperson\, AI Applied Consortium\nOpen discussion to scope high-impact pilots\, align data and policy prerequisites\, and set 30/60/90-day milestones.\n\n \n\n5:30 – 7:30 PM\nEvening Cocktail Reception & Networking\nSponsored by Prolifics:\nKaiyo Rooftop — 701 3rd St\, Floor 12\, San Francisco\, CA 94107\nWarm introductions\, signature drinks\, and a relaxed setting to convert insights into partnerships and pilot plans.
URL:https://aaiconsortium.org/event/aisignalstooutcomes/
END:VEVENT
END:VCALENDAR