BEGIN:VCALENDAR
VERSION:2.0
PRODID:-//Ai Applied Consortium - ECPv6.15.20//NONSGML v1.0//EN
CALSCALE:GREGORIAN
METHOD:PUBLISH
X-WR-CALNAME:Ai Applied Consortium
X-ORIGINAL-URL:https://aaiconsortium.org
X-WR-CALDESC:Events for Ai Applied Consortium
REFRESH-INTERVAL;VALUE=DURATION:PT1H
X-Robots-Tag:noindex
X-PUBLISHED-TTL:PT1H
BEGIN:VTIMEZONE
TZID:America/New_York
BEGIN:DAYLIGHT
TZOFFSETFROM:-0500
TZOFFSETTO:-0400
TZNAME:EDT
DTSTART:20240310T070000
END:DAYLIGHT
BEGIN:STANDARD
TZOFFSETFROM:-0400
TZOFFSETTO:-0500
TZNAME:EST
DTSTART:20241103T060000
END:STANDARD
BEGIN:DAYLIGHT
TZOFFSETFROM:-0500
TZOFFSETTO:-0400
TZNAME:EDT
DTSTART:20250309T070000
END:DAYLIGHT
BEGIN:STANDARD
TZOFFSETFROM:-0400
TZOFFSETTO:-0500
TZNAME:EST
DTSTART:20251102T060000
END:STANDARD
BEGIN:DAYLIGHT
TZOFFSETFROM:-0500
TZOFFSETTO:-0400
TZNAME:EDT
DTSTART:20260308T070000
END:DAYLIGHT
BEGIN:STANDARD
TZOFFSETFROM:-0400
TZOFFSETTO:-0500
TZNAME:EST
DTSTART:20261101T060000
END:STANDARD
END:VTIMEZONE
BEGIN:VTIMEZONE
TZID:UTC
BEGIN:STANDARD
TZOFFSETFROM:+0000
TZOFFSETTO:+0000
TZNAME:UTC
DTSTART:20240101T000000
END:STANDARD
END:VTIMEZONE
BEGIN:VEVENT
DTSTART;TZID=America/New_York:20251014T130000
DTEND;TZID=America/New_York:20251014T170000
DTSTAMP:20260423T161323
CREATED:20250730T155446Z
LAST-MODIFIED:20250730T163345Z
UID:1615-1760446800-1760461200@aaiconsortium.org
SUMMARY:Connected Worker: Manufacturing Summit 2025
DESCRIPTION:📅 October 14–16\, 2025📍 Hilton Chicago – Oak Brook Hills Resort🎟️ Save 20% with code: AIAPPLIED20 (T&Cs apply)*🔗 Event Website \nJoin us in Chicago for the 4th Annual Connected Worker: Manufacturing Summit\, the premier North American event focused on digitally enabling your frontline workforce. \nWith 75+ speakers and 300+ industry leaders\, this summit dives deep into how intelligent automation\, AI\, and digital tools are redefining the factory floor. Learn directly from pioneers at Boeing\, Coca-Cola\, Kraft Heinz\, Pfizer\, FUJIFILM\, Hershey\, Mondelez\, and more. \nIn partnership with the AI Applied Consortium\, attendees receive 20% off their pass using the code AIAPPLIED20.
URL:https://aaiconsortium.org/event/iqpc/
END:VEVENT
BEGIN:VEVENT
DTSTART;TZID=UTC:20251014T130000
DTEND;TZID=UTC:20251014T190000
DTSTAMP:20260423T161323
CREATED:20250902T162511Z
LAST-MODIFIED:20251014T172946Z
UID:1648-1760446800-1760468400@aaiconsortium.org
SUMMARY:AI at Work\, AI for Good - Symposium
DESCRIPTION:📍 Location: DePaul Center (1 E Jackson Blvd)\, 8th floor SPARK Center (Room 8010)\n📅 Date & Time: October 14\, 2025 | 1:00 – 5:00 PM CDT\n\nThis half-day symposium brings together industry leaders\, academic researchers\, social innovators\, and technology providers to explore how artificial intelligence is transforming the world of work and society at large. From workforce development and career readiness to data-driven platforms that empower connected workers\, optimize industrial operations\, and strengthen community resilience\, the program highlights real-world applications\, research breakthroughs\, and initiatives advancing AI for Social Good. \nSessions will feature insights into industrial innovation\, applied research from DePaul University\, and a spotlight on emerging technologies such as digital twins\, contextualized data models\, and workforce analytics that are shaping the future of enterprise transformation. The agenda also examines how AI can contribute to humanitarian logistics\, community health\, and broader societal impact. \nDesigned as a collaborative forum\, the symposium connects executives\, scholars\, practitioners\, and community leaders to discuss the future of work in an AI-driven economy\, spanning talent pipelines\, industrial platforms\, and social good initiatives. \n  \n \n\n \n\n \nNezih Altay\nProfessor & Fulbright Scholar\nDePaul University\n\n \nElias Brown\nNorth American Data Manager\nVallourec\n\n \nKathy Fulton\nExecutive Director\nAmerican Logistics Aid Network\n\n\n \n\n\n\n \n\n \nMartin Gonzales\nDirector of Innovation\nBP\n\n \nKonrad Konarski\nChairperson\nAI Applied Consortium\n\n \nRon Norris\nRetired Director of Innovation\nGeorgia Pacific\n\n\n \n\n\n\n \n\n \nKevin Patel\nStudent Researcher\nDePaul University\n\n \nTushar Vantaram\nStudent Researcher\nDePaul University\n\n \nVishwa Teja\nStudent Researcher\nDePaul University\n\n\n \n\n\n\n \n\n \nMike McFarlane\nDirector of Digitalization (Ret.)\nBASF\n\n \nAdam J. Hecktman\nHead of Community Impact\nForgood.io\n\n \nMichael Burgess\nVice President\nCrenlo Engineered Cabs\n\n\n\n\n  \n \n\n\n\n\nMain Session – Agenda\n1:00 – 1:20 PM | Welcome & Opening Remarks\nOpening remarks on the symposium by framing the role of AI in shaping workforce development\, industrial transformation\, and social good initiatives\, and by setting the tone for collaboration across industry\, academia\, and community impact. \n\n1:20 – 1:30 PM | SPARK Center Director Welcome\nBrief welcome and overview of the SPARK Center resources and services. \n\n1:30 – 2:10 PM | Keynote: Workforce Development in the Age of AI\nMike McFarlane\, Retired Director of Digitalization\, BASF\nDrawing from decades of leadership in digital transformation\, Mike will share perspectives on how AI is redefining workforce skills\, organizational structures\, and the adaptability required for future-ready enterprises. \n\n2:10 – 2:55 PM | Industry Panel: AI Driving Innovation in Energy & Manufacturing\nMartin Gonzalez\, Director of Innovation\, BP\nElias Brown\, Data Manager\, Vallourec\nRon Norris\, Retired Director of Innovation\, Georgia Pacific\nThis panel will explore practical applications of AI in heavy industry\, highlighting how companies are leveraging technology to improve efficiency\, safety\, sustainability\, and workforce enablement in energy and manufacturing. \n\n2:55 – 3:10 PM | Networking Break\nA chance for participants to engage directly with speakers\, industry peers\, and academic researchers in an informal setting. \n\n3:10 – 4:00 PM | Research & Academia Showcase: Building AI Career Architectures\nProf. Nezih Altay\, DePaul University (Fulbright Scholar)\nIlyas Ustun\, Director of Analytics\, DePaul University\nKevin Patel & Tushar Vantaram\, DePaul Student Researchers\nThis session will highlight applied research from DePaul\, including projects such as Tariff 360 and the National Video Analytics Program\, demonstrating how academic innovation supports workforce development and industry collaboration. \n\n4:00 – 4:40 PM | AI for Social Good: Humanitarian Logistics & Community Impact\nNezih Altay\, DePaul University\nKathy Fulton\, Executive Director\, American Logistics Aid Network\nAdam J. Hecktman\, Founder\, Forgood.io\nThis discussion will explore how AI can strengthen humanitarian supply chains\, improve community health\, and drive broader societal impact\, showing how innovation can extend beyond industry to serve the public good. \n\n4:40 – 4:55 PM | Roundtable: Career Pathways & Social Good in an AI-First Future\nModerated by Konrad Konarski\nFeaturing all speakers + audience interaction\nThe roundtable will synthesize key insights from the day\, bringing together perspectives from industry\, academia\, technology\, and social impact to chart how AI will shape both workforce pathways and community resilience. \n\n4:55 – 5:00 PM | Closing Reflections & Next Steps\nKonrad Konarski\, Chairperson\, AI Applied Consortium\nKonrad will close the symposium with a summary of takeaways and outline future opportunities for continued collaboration between industry\, academia\, and social innovators.\n\n\n\n5:30 to 7:30 PM | Evening Cocktail Reception (By Invite) 🍸✨ \nConnect with speakers and peers over signature drinks and chef bites. Expect warm introductions\, quick networking rounds\, and a relaxed lounge vibe with music to turn fresh insights into real partnerships and pilot ideas.
URL:https://aaiconsortium.org/event/aiworkaigood/
END:VEVENT
BEGIN:VEVENT
DTSTART;TZID=UTC:20251030T130000
DTEND;TZID=UTC:20251030T193000
DTSTAMP:20260423T161323
CREATED:20250902T182602Z
LAST-MODIFIED:20251030T200918Z
UID:1685-1761829200-1761852600@aaiconsortium.org
SUMMARY:Signals to Outcomes:  AI at Mission Rock
DESCRIPTION:📍 Venue: Visa Global Headquarters — Mission Rock (Mission Bay)\, San Francisco\, CA – 300 Toni Stone Xing\, San Francisco\, CA 94158 \n📅 Date & Time: October 30th | 1:00 – 7:30 PM PST \nThis invite-only working session at Visa’s Mission Rock headquarters convenes enterprise leaders\, platform architects\,\nand researchers to turn Agentic AI\, Hyperpersonalization\, and Analytics into durable business value. We’ll pressure-test production patterns\, share field results\, and align on actionable 30/60/90-day pilot plans. \nSessions emphasize agentic orchestration for reliability and governance\, real-time personalization across credit and customer journeys\, and analytics operating models that convert signals to outcomes—without sacrificing safety or performance. \n  \n \n  \n\n \n\n \n\nSam Hamilton\nSVP\, Data & AI\nVisa (former)\n\n\n \n\nAbhishek Joshi\nHead of U.S. Credit & Affluent Strategy\nVisa\n\n\n \n\nAnand Krishnan\nPartnership & Consulting Lead\nEY\n\n\n\n \n\n\n\n \n\n \n\nKonrad Konarski\nChairperson\nAI Applied Consortium / Prolifics Inc.\n\n\n \n\nTeesee Murray\nGroup President (CEO\, TurtleX)\nTurtle\n\n\n \n\nDr. Satyam Priyadarshy\nRetired Chief Data Scientist\nHalliburton\n\n\n\n \n\n\n\n \n\n \n\nPrasanna Vijayanathan\nSenior Principal Engineer\nNetflix\n\n\n \n\nDr. Cynthia Bailey\nSenior Lecturer\nStanford University\n\n\n \n\nVirginia Hughes\nCanada Territory Lead\nProlifics\n\n\n\n \n\n\n\n \n\n \n\nSwee-May Ngeow\nVP\, Head of North America Product\, Client Strategy & Solutions\nVisa\n\n\n \n\nDr. Kshitij Sanghi\nVP\, Predictive Fraud Prevention Products\nVisa\n\n\n \n\nDr. Long Nguyen\nDirector of Data Science\nVisa\n\n\n\n\n\n \n\n\n\nTime\nSession\nSpeakers\nDetails\n\n\n \n\n1:00 – 1:10 PM\nWelcome & Host Remarks (Visa)\nAbhishek “AJ” Joshi — Head of U.S. Credit & Affluent Strategy\, Visa\nKonrad Konarski — Chairperson\, AI Applied Consortium\nOpening remarks and session framing for an outcomes-focused afternoon.\n\n \n\n1:10 – 2:10 PM\nAI Innovation at Visa\nPersonalization: Lawson Lau — VP\, Head of North America Data Science\nRisk Management: Kshitij Sanghi — VP\, Predictive Fraud Prevention Products\nAI in Operations: Erica Luong — Sr. Manager\, Visa Consulting & Analytics; Rajat Das — Sr. Director\, Platform Products\nPayments for Agentic AI: Raj Brahmbhatt — Sr. Director\, Payments; Swee-May Ngeow — VP\, Head of North America Product\, Client Strategy & Solutions \nSam Hamilton Former SVP VISA\nHow Visa teams are scaling agentic architectures\, hardening evaluation\, and aligning policy with progress across core domains.\n\n \n\n2:10 – 2:30 PM\nNetworking Break\nCurated intros & quick connects\nMatch on pilot topics and priority use cases.\n\n \n\n2:30 – 3:30 PM\nIndustry Panel: From POCs to Agentic Systems in Production\nTeesee Murray — Group President\, Turtle | CEO\, TurtleX\nAnand Krishnan — Partner\, EY\nPrasanna Vijayanathan — Senior Technical Lead\, Netflix\nKonrad Konarski — Chairperson\, AI Applied Consortium\nFrom demo to dependable: orchestration stacks\, evaluation harnesses\, secure data products\, and change management.\n\n \n\n3:30 – 4:00 PM\nRegulatory Landscape in AI\nDr. Cynthia Bailey — Stanford AI Lab\nBriefing on emerging frameworks for accountability\, governance\, and compliance in enterprise AI.\n\n \n\n4:00 – 5:30 PM\nRoundtable: Opportunity to Pilot Innovation\nFacilitated by: Konrad Konarski — Chairperson\, AI Applied Consortium\nOpen discussion to scope high-impact pilots\, align data and policy prerequisites\, and set 30/60/90-day milestones.\n\n \n\n5:30 – 7:30 PM\nEvening Cocktail Reception & Networking\nSponsored by Prolifics:\nKaiyo Rooftop — 701 3rd St\, Floor 12\, San Francisco\, CA 94107\nWarm introductions\, signature drinks\, and a relaxed setting to convert insights into partnerships and pilot plans.
URL:https://aaiconsortium.org/event/aisignalstooutcomes/
END:VEVENT
BEGIN:VEVENT
DTSTART;TZID=UTC:20260415T130000
DTEND;TZID=UTC:20260415T193000
DTSTAMP:20260423T161323
CREATED:20260322T213307Z
LAST-MODIFIED:20260415T031208Z
UID:1950-1776258000-1776281400@aaiconsortium.org
SUMMARY:The Spark: Where Industrial AI Gets Real
DESCRIPTION:📍 Venue: Depaul University — The Spark Center — 1E Jackson Blvd\, Chicago\, IL 60604 – 8th Floor Rm 8010 \n📅 Date & Time: April 15th | 1:00 – 5:00 PM CDT \nThe Spark: AI in Industry brings together the operators\, architects\, and researchers who are actually doing the work\, not talking about it. Across three hard-hitting panels\, we move from what’s delivering measurable value on the plant floor today\,\nto designing agentic systems that survive contact with real industrial constraints\, to what the next operating model looks like when AI becomes part of the job. No keynote theater\, no vendor pitches. Just the honest conversations that turn pilot projects into production reality. \n  \n \n  \n\n \n\n \n\nMartin Gonzalez\nSenior Manager\, Refining Technology\nBP\n\n\n \n\nNezih Altay\nDirector of the Master of Science in Supply Chain Management Program\nDepaul University\n\n\n \n\nJungwoo Ryoo\nChancellor\nPenn State\n\n\n\n \n\n\n\n \n\n \n\nKonrad Konarski\nChairperson\nAI Applied Consortium / Prolifics Inc.\n\n\n \n\nElias Brown\nNorth American Data Manager\nVallourec\n\n\n \n\nJobi Abraham\n\nData Governance Manager\nIllinois Department of Public Health\n\n\n\n\n \n\n\n\n \n\n\n\n\n \n\nMichael Burgess\nVP Operations\nCrenlo Engineered Cabs\n\n\n\n\n\n\n\n \n\n\nDr. James Kulich\nDirector of MS in Data Science\nElmhurst University\n\n\n\n\n\n\n \n\nJohn Thompson\nAuthor and Innovation Fellow\nUniversity of Michigan\n\n\n\n \n\n\n\n \n\n \n\nMarco Chou\nAdjunct Professor\nOakton College\n\n\n\n\n\n\n\n \n\n\n\nTime\nSession\nSpeakers\nDetails\n\n\n \n\n1:00 – 1:15 PM\nOPENING REMARKS\nDr. Nezih Altay — Director of MS in Supply Chain Management\, DePaul University \nKonrad Konarski — Chairman at AI Applied Consortium\nOpening remarks. Speaking about the collaboration between DePaul University and the Ai Applied Consortium. Introduction to the AI Applied Consortium and the importance of this symposium.\n\n \n\n1:15 – 2:00 PM\nFireside Chat: AI in industry – what is working right now ?\nDr. Martin Gonzalez — Senior Manager\, Refining Technology at BP \nMarco Chou — Adjunct Professor\, DePaul University\nHear directly from industry leaders on where AI is delivering measurable value today and where progress still stalls. This panel focuses on real adoption experience in energy and manufacturing\, including the operational realities that determine whether AI scales or stops at the pilot stage. \nTopics \n\nHigh value AI use cases in operations and production\nWhy some pilots scale and others do not\nData readiness and system integration realities\nChange management and frontline adoption\nTrust\, safety\, and decision support in industrial settings\nWhat leaders are prioritizing next\n\nOutcomes \n\nPractical examples of measurable AI value creation\nBetter understanding of common scale barriers\nClearer picture of near term priorities in industry adoption\n\n\n\n \n\n2:00 – 2:15 PM\nCOFFEE BREAK\n\n\n\n \n\n2:15 – 3:00 PM\nPANEL 2: Agentic Ai in industry – move beyond the hype\nKonrad Konarski — Chairman at AI Applied Consortium\nJobi Abrahams — Data Governance Manager at Illinois Dept of Public Health\nDr. James Kulich — Director of MS in Data Science at Elmhurst University\nMove beyond the hype and into practical design. This session explores how agentic AI can support troubleshooting\, decision making\, and workflow coordination in complex industrial settings\, with a focus on what it takes to make these systems useful\, trusted\, and scalable. \nTopics \n\nWhat agentic AI means in industrial operations\nPractical use cases in energy and manufacturing workflows\nContext\, retrieval\, and semantic grounding\nReasoning\, orchestration\, and task coordination\nHuman oversight\, exception handling\, and trust\nDesigning for legacy systems and real operational constraints\nWhat breaks at scale and how to plan for it\n\nOutcomes \n\nPractical framework for evaluating agentic AI opportunities\nBetter understanding of design choices that affect success\nClearer path from concept to scalable industrial implementation\n\n\n\n \n\n3:00 – 3:15 PM\nCOFFEE BREAK\n\n\n\n \n\n3:15 – 4:00 PM\nPANEL 3: The next operating model: Humans\, AI\, and industrial intelligence\nElias Brown — Data Manager at Vallourec\nDr. Nezih Altay — Director of MS in Supply Chain Management\, DePaul University\nJohn Thompson — Author and Innovation Fellow at U of Michigan\nWhat happens when AI becomes part of everyday industrial work? This forward looking session explores how energy and manufacturing organizations may evolve over the next 3 to 5 years across frontline support\, knowledge transfer\, training\, operational decision making\, and workforce roles. \nTopics \n\nAI enabled frontline and plant support\nKnowledge capture and transfer before expertise retires\nTraining and upskilling in AI enabled environments\nHuman plus AI decision support models\nOperating model shifts across plants and enterprises\nWhat is emerging now versus what is still overhyped\n\nOutcomes \n\nGrounded view of where industrial AI is heading next\nBetter distinction between near term reality and longer term hype\nClearer priorities for technology\, talent\, and operating model change\n\n\n\n \n\n4:00 – 4:45 PM\nSTUDENT VOICE SESSION\nModerator: Konrad Konarski\, AI Applied Consortium\nIn this session students will have an opportunity to voice their concerns and expectations regarding AI. The AI Applied Consortium will then summarize their feedback into a report which will be included in the Consortium’s AI policy posture document that will be submitted to the US Congress.\n\n \n\n4:45 – 5:00 PM\nCLOSING TAKEAWAYS AND NEXT STEPS
URL:https://aaiconsortium.org/event/the-spark-where-industrial-ai-gets-real/
END:VEVENT
END:VCALENDAR