BEGIN:VCALENDAR
VERSION:2.0
PRODID:-//Ai Applied Consortium - ECPv6.15.20//NONSGML v1.0//EN
CALSCALE:GREGORIAN
METHOD:PUBLISH
X-WR-CALNAME:Ai Applied Consortium
X-ORIGINAL-URL:https://aaiconsortium.org
X-WR-CALDESC:Events for Ai Applied Consortium
REFRESH-INTERVAL;VALUE=DURATION:PT1H
X-Robots-Tag:noindex
X-PUBLISHED-TTL:PT1H
BEGIN:VTIMEZONE
TZID:America/New_York
BEGIN:DAYLIGHT
TZOFFSETFROM:-0500
TZOFFSETTO:-0400
TZNAME:EDT
DTSTART:20240310T070000
END:DAYLIGHT
BEGIN:STANDARD
TZOFFSETFROM:-0400
TZOFFSETTO:-0500
TZNAME:EST
DTSTART:20241103T060000
END:STANDARD
BEGIN:DAYLIGHT
TZOFFSETFROM:-0500
TZOFFSETTO:-0400
TZNAME:EDT
DTSTART:20250309T070000
END:DAYLIGHT
BEGIN:STANDARD
TZOFFSETFROM:-0400
TZOFFSETTO:-0500
TZNAME:EST
DTSTART:20251102T060000
END:STANDARD
BEGIN:DAYLIGHT
TZOFFSETFROM:-0500
TZOFFSETTO:-0400
TZNAME:EDT
DTSTART:20260308T070000
END:DAYLIGHT
BEGIN:STANDARD
TZOFFSETFROM:-0400
TZOFFSETTO:-0500
TZNAME:EST
DTSTART:20261101T060000
END:STANDARD
END:VTIMEZONE
BEGIN:VEVENT
DTSTART;TZID=America/New_York:20250529T130000
DTEND;TZID=America/New_York:20250529T170000
DTSTAMP:20260423T190954
CREATED:20250228T193327Z
LAST-MODIFIED:20250529T173644Z
UID:1123-1748523600-1748538000@aaiconsortium.org
SUMMARY:AI in Manufacturing Symposium
DESCRIPTION:AI in Manufacturing Symposium \nPresented by AI Applied Consortium & University of KentuckyHosted at University of Kentucky\, Lexington \nJoin us for a dynamic symposium bringing together industry leaders\, AI innovators\, and manufacturing experts to explore the transformative impact of AI in manufacturing. This exclusive event will feature key discussions on AI-driven digital transformation\, operational efficiency\, and industry best practices. \n\nLocation: \nLexington\, KY\nUniversity of Kentucky\nE. Britt Brockman\, M.D. Senate Chamber (GSC 268)\, Gatton Student Center\nRoom 18 (pdf link) \n\nDate/Time: May 29th\, 2025 | 1:00 PM – 5:00 PM\nFormat: Presentations & Roundtable with Applied AI Research and Industry Collaboration \n  \n  \n\n\n\n\n\n\n\n\n\nDr. Fazleena Badurdeen\nMichael Burgess\nKonrad Konarski\n\n\nEarl Parker Robinson Chair\nVice President of Operations\nChairperson\n\n\nProfessor’ of Mechanical\nCrenlo Engineered Cabs\nAI Applied Consortium\n\n\nand Aerospace Engineering\n\n\n\n\nUniversity of Kentucky\n\n \n\n\n  \n \n\n\n\n\n\n\n\n\n\nDr. Hasan Poonawala\nTom Wipert\nElias Brown\n\n\nAssistant Professor\nSenior Analyst (Innovation)\nData Manager\n\n\nUniversity of Kentucky\nToyota\nVallourec S.A.\n\n\n  \n \n\n\n\n\n\n\n\n\n\nJoe Cellucci\nI.S. Jawahir\nMichael Braun\n\n\nChief Executive Officer\nDirector of Institute of\nLead Public Sector Advisor\n\n\nEnable Consulting LLC.\nSustainable Manufacturing\n& Trustee\n\n\n\nUniversity of Kentucky\nAI Applied Consortium\n\n\n\n\n  \n\n\n\n🚀 Event Overview\n\n\nThis symposium brings together leaders from industry and academia to discuss the transformative power of AI in manufacturing. The agenda includes expert presentations and interactive discussions.\n\n\n🕒 Time\n📢 Session Details\n\n\n1:00 – 1:05 PM\nWelcome\n🗣️ Speaker: I.S. Jawahir\, Professor and James F. Hardymon Chair in Manufacturing Systems; Director of Institute for Sustainable Manufacturing.\n\n\n1:05 – 1:15 PM\nOpening Remarks\n🗣️ Speaker: Konrad Konarski\, AI Applied Consortium\n\n\n1:15 – 2:00 PM\nKeynote: Building Industrial Intelligence – Leveraging AI for Next Generation Manufacturing\n🗣️ Speaker: Dr. Fazleena Badurdeen \, Universtiy of Kentucky\n\n\n2:00 – 2:30 PM\nWorkforce Development in the Era of Artificial Intelligence\n🗣️ Speakers: Elias Brown\, Vallourec\n\n\n2:30 – 3:00 PM\nMachine Learning for Spot Welding\n🗣️ Speaker: Joe Kenshaw\, Post-Grad University of Kentucky\n\n\n3:00 – 3:15 PM\nBREAK / REFRESHMENTS + Student Poster Session🧃 Network with peers and explore innovative AI applications presented by University of Kentucky engineering students.\n\n\n3:15 – 3:45 PM\nAI-Driven Innovation in Manufacturing\n🗣️ Speaker: Hasan Poonawala\, University of Kentucky\n\n\n3:45 – 4:45 PM\nPanel Discussion: Barriers to AI Adoption in Manufacturing🗣️ Panelists: Konrad Konarski AI Applied Consortium\, Joe Cellucci\, Enable Consulting\, and Michael Braun AI Applied Consortium🗣️ Moderated by: University of Kentucky Engineering Post Grad\n\n\n4:45 – 4:50 PM\nClosing Remarks\n🗣️ By: Konrad Konarski\n\n\n5:30- 7:30 PM\nCocktail & Networking Dinner (Location Lost Palm – 941 Manchester St\, Lexington\, KY 40508)🍸🍽️ Join us for a curated cocktail and dinner event that blends great conversation \, local flavor \, and meaningful networking with speakers\, peers\, and industry leaders. (INVITE ONLY)\n\n\n📍 Location: University of Kentucky\, Lexington\n\n\n🔗 Registration Below\n\n\n🚀 Be part of the conversation shaping the future of AI in manufacturing
URL:https://aaiconsortium.org/event/ai-in-manufacturing-symposium/
END:VEVENT
END:VCALENDAR